{"text_format":"1","workbook":"xlsx","n_sheets":2,"sheets":["Kierunek","P"],"not_rendered":{"charts":0,"images":0,"macros":1,"external_links":1,"defined_names":32,"comments":0,"pivot_tables":0},"unopened":[],"bounds":{"document_bytes":16777216,"sheet_cells":100000,"rows_first":2000,"rows_last":500,"rows_between":2000,"halvings":0,"cell_chars":16384,"cell_head_chars":4096},"cells_cut":0,"cells_raw":0,"read":"whole","date_system":"1900"}

{"sheet":"Kierunek","index":0,"n_rows":97,"n_cols":45,"rows_kept":97,"cut":false,"hidden":false,"merged":[[51,2,51,3],[60,2,60,3],[66,2,66,3],[4,2,5,2],[93,2,93,17],[71,2,71,3],[72,2,72,3],[90,2,90,17],[91,2,91,17],[89,2,89,17],[4,25,4,29],[77,8,78,8],[77,9,78,9],[6,2,6,3],[13,2,13,3],[23,2,23,3],[35,2,35,3],[4,4,4,9],[4,3,5,3],[4,10,4,14],[77,14,78,14],[77,19,78,19],[4,15,4,19],[77,2,78,3],[77,24,78,24],[44,2,44,3],[1,41,1,44],[2,41,2,44],[78,35,78,38],[78,40,78,43],[4,40,4,44],[77,39,78,39],[4,30,4,34],[78,30,78,33],[78,25,78,28],[4,35,4,39],[84,2,84,17],[78,10,78,13],[77,29,78,29],[78,20,78,23],[80,10,80,44],[78,4,78,7],[79,2,79,3],[78,15,78,18],[83,2,83,17],[77,34,78,34],[77,44,78,44],[4,20,4,24]]}
[]
[null,null,null,null,"PLAN STUDIÓW DLA KIERUNKU: ","Elektronika i Telekomunikacja - studia I-go stopnia",null,null,null,null,null,null,null,null,null,null,null,null,null,null,"(stacjonarne)"]
[null,null,null,null,null,"część wspólna dla wszystkich specjalności ",null,null,null,null,null,null,null,null,null,null,null,null,null,null,null,null,null,null,null,null,null,null,null,null,null,null,null,null,null,null,null,null,null,null,"Data sporządzenia: ","2018-06-12"]
[null,null,null,null,null,null,null,null,null,null,null,null,null,null,null,null,null,null,null,null,null,null,null,null,null,null,null,null,null,null,null,null,null,null,null,null,null,null,null,null,"Obowiązuje od roku akademickiego: ","2018 / 2019"]
[null,null,"Lp","Moduły","Suma godzin / ECTS",null,null,null,null,null,"Sem. I",null,null,null,null,"Sem. II",null,null,null,null,"Sem. III",null,null,null,null,"Sem. IV",null,null,null,null,"Sem. V",null,null,null,null,"Sem. VI",null,null,null,null,"Sem. VII"]
[null,null,null,null,"W","Ć","L","P","S","PE","W","Ć","L","P","PE","W","Ć","L","P","PE","W","Ć","L","P","PE","W","Ć","L","P","PE","W","Ć","L","P","PE","W","Ć","L","P","PE","W","Ć","L","P","PE"]
[null,null,"M1_MO  KSZTAŁCENIA  OGÓLNEGO",null,{"$f":"SUM(E8:E13)","v":90},210,0,0,300,16,4,5,0,0,7,2,5,0,0,5,0,2,0,0,2,0,2,0,0,2,0,0,0,0,0,0,{"$f":"SUM(AK8:AK13)","v":0},0,0,0,0,0,0,0,0]
[null,null,1,"Nauki humanistyczne (obieralny)",{"$f":"P!tyg*SUMIF($K$6:$AR$6,\"W\",$K$8:$AR$8)","v":45},{"$f":"P!tyg*SUMIF($K$6:$AR$6,\"Ć\",$K$8:$AR$8)","v":30},0,0,{"$f":"SUM(E8:H8)","v":75},{"$f":"SUMIF($K$6:$AS$6,J$6,$K8:$AS8)","v":5},{"$f":"15/P!tyg","v":1},{"$f":"15/P!tyg","v":1},null,null,2,2,{"$f":"15/P!tyg","v":1},null,null,3]
[null,null,2,"Ergonomia",0,0,0,{"$f":"P!tyg*SUMIF($K$6:$AR$6,\"P\",$K$9:$AR$9)","v":0},0,0]
[1,null,3,"Język obcy (obieralny)",0,{"$f":"P!tyg*SUMIF($K$6:$AR$6,\"Ć\",$K$10:$AR$10)","v":120},0,0,120,8,null,{"$f":"30/P!tyg","v":2},null,null,2,null,{"$f":"30/P!tyg","v":2},null,null,2,null,{"$f":"30/P!tyg","v":2},null,null,2,null,{"$f":"30/P!tyg","v":2},null,null,2]
[1,null,4,"WF",0,{"$f":"P!tyg*SUMIF($K$6:$AR$6,\"Ć\",$K$11:$AR$11)","v":60},0,0,60,0,null,{"$f":"30/P!tyg","v":2},null,null,null,null,{"$f":"30/P!tyg","v":2}]
[null,null,5,"Nauki ekonomiczne (obieralny)",{"$f":"P!tyg*SUMIF($K$6:$AR$6,\"W\",$K$12:$AR$12)","v":30},0,0,0,30,2,{"$f":"30/P!tyg","v":2},null,null,null,2]
[1,null,6,"Ochrona własności intelektualnej",{"$f":"P!tyg*SUMIF($K$6:$AR$6,\"W\",$K$13:$AR$13)","v":15},null,0,0,15,1,{"$f":"15/P!tyg","v":1},null,null,null,1]
[2,null,"M1_MF  MATEMATYCZNO-FIZYCZNY",null,{"$f":"SUM(E15:E23)","v":165},150,30,0,345,23,6,7,{"$f":"SUM(M15:M23)","v":0},0,{"$f":"SUM(O15:O23)","v":12},4,2,2,0,9,1,1,0,{"$f":"SUM(X16:X23)","v":0},{"$f":"SUM(Y15:Y23)","v":2},{"$f":"SUM(Z15:Z23)","v":0},0,0,0,0,0,0,0,0,0,0,0,0,0,0,0,0,0,0,0]
[1,null,1,"Podstawy analizy matematycznej",{"$f":"P!tyg*SUMIF($K$6:$AR$6,\"W\",$K$15:$AR$15)","v":30},{"$f":"P!tyg*SUMIF($K$6:$AR$6,\"Ć\",$K$15:$AR$15)","v":15},0,0,{"$f":"SUM(E15:H15)","v":45},{"$f":"SUMIF($K$6:$AS$6,J$6,$K15:$AS15)","v":4},{"$f":"30/P!tyg","v":2},{"$f":"15/P!tyg","v":1},null,null,4]
[1,null,2,"Algebra liniowa i geometria analityczna",{"$f":"P!tyg*SUMIF($K$6:$AR$6,\"W\",$K$16:$AR$16)","v":30},{"$f":"P!tyg*SUMIF($K$6:$AR$6,\"Ć\",$K$16:$AR$16)","v":15},0,0,45,4,{"$f":"30/P!tyg","v":2},{"$f":"15/P!tyg","v":1},null,null,4]
[1,null,3,"Probabilistyka i statystyka",{"$f":"P!tyg*SUMIF($K$6:$AR$6,\"W\",$K$17:$AR$17)","v":15},{"$f":"P!tyg*SUMIF($K$6:$AR$6,\"Ć\",$K$17:$AR$17)","v":15},0,0,30,2,null,null,null,null,null,null,null,null,null,null,{"$f":"15/P!tyg","v":1},{"$f":"15/P!tyg","v":1},null,null,2]
[1,null,4,"Analiza matematyczna",{"$f":"P!tyg*SUMIF($K$6:$AR$6,\"W\",$K$18:$AR$18)","v":30},{"$f":"P!tyg*SUMIF($K$6:$AR$6,\"Ć\",$K$18:$AR$18)","v":15},0,0,45,4,null,null,null,null,null,{"$f":"30/P!tyg","v":2},{"$f":"15/P!tyg","v":1},null,null,4]
[1,null,5,"Funkcje zmiennej zespolonej",{"$f":"P!tyg*SUMIF($K$6:$AR$6,\"W\",$K$19:$AR$19)","v":15},{"$f":"P!tyg*SUMIF($K$6:$AR$6,\"Ć\",$K$19:$AR$19)","v":15},0,0,30,2,null,null,null,null,null,{"$f":"15/P!tyg","v":1},{"$f":"15/P!tyg","v":1},null,null,2]
[null,null,6,"Repetytorium z matematyki",{"$f":"P!tyg*SUMIF($K$6:$AR$6,\"W\",$K$20:$AR$20)","v":0},{"$f":"P!tyg*SUMIF($K$6:$AR$6,\"Ć\",$K$20:$AR$20)","v":30},null,null,30,0,null,2,null,null,0]
[null,null,7,"Repetytorium z fizyki",{"$f":"P!tyg*SUMIF($K$6:$AR$6,\"W\",$K$21:$AR$21)","v":0},{"$f":"P!tyg*SUMIF($K$6:$AR$6,\"Ć\",$K$21:$AR$21)","v":30},null,null,30,0,null,2,null,null,0]
[1,null,8,"Fizyka",{"$f":"P!tyg*SUMIF($K$6:$AR$6,\"W\",$K$22:$AR$22)","v":45},{"$f":"P!tyg*SUMIF($K$6:$AR$6,\"Ć\",$K$22:$AR$22)","v":15},0,0,60,5,{"$f":"30/P!tyg","v":2},{"$f":"15/P!tyg","v":1},null,null,4,{"$f":"15/P!tyg","v":1},null,null,null,1]
[1,null,9,"Laboratorium fizyki",{"$f":"P!tyg*SUMIF($K$6:$AR$6,\"W\",$K$23:$AR$23)","v":0},{"$f":"P!tyg*SUMIF($K$6:$AR$6,\"Ć\",$K$23:$AR$23)","v":0},{"$f":"P!tyg*SUMIF($K$6:$AR$6,\"L\",$K$23:$AR$23)","v":30},0,30,2,null,null,null,null,null,null,null,{"$f":"30/P!tyg","v":2},null,2]
[2,null,"M1_EM  ELEKTRONIKI  I  METROLOGII",null,{"$f":"SUM(E25:E35)","v":165},30,135,30,360,25,0,0,0,0,0,6,{"$f":"SUM(Q25:Q35)","v":1},1,0,8,2,0,4,0,7,2,1,2,0,5,0,0,0,0,0,1,0,2,2,5,0,0,0,0,0]
[1,null,1,"Elementy elektroniczne",{"$f":"P!tyg*SUMIF($K$6:$AR$6,\"W\",$K$25:$AR$25)","v":30},{"$f":"P!tyg*SUMIF($K$6:$AR$6,\"Ć\",$K$25:$AR$25)","v":15},0,0,{"$f":"SUM(E25:H25)","v":45},{"$f":"SUMIF($K$6:$AS$6,J$6,$K25:$AS25)","v":3},null,null,null,null,null,{"$f":"30/P!tyg","v":2},{"$f":"15/P!tyg","v":1},null,null,3]
[1,null,2,"Lab. podstaw elektroniki",0,0,{"$f":"P!tyg*SUMIF($K$6:$AR$6,\"L\",$K$26:$AR$26)","v":15},0,{"$f":"SUM(E26:H26)","v":15},1,null,null,null,null,null,null,null,1,null,1]
[1,null,3,"Optoelektronika",{"$f":"P!tyg*SUMIF($K$6:$AR$6,\"W\",$K$27:$AR$27)","v":30},0,0,0,30,2,null,null,null,null,null,{"$f":"30/P!tyg","v":2},null,null,null,2]
[1,null,4,"Układy elektroniczne",{"$f":"P!tyg*SUMIF($K$6:$AR$6,\"W\",$K$28:$AR$28)","v":30},{"$f":"P!tyg*SUMIF($K$6:$AR$6,\"Ć\",$K$28:$AR$28)","v":15},0,0,45,3,null,null,null,null,null,null,null,null,null,null,null,null,null,null,null,{"$f":"30/P!tyg","v":2},{"$f":"15/P!tyg","v":1},null,null,3]
[1,null,5,"Laboratorium układów elektronicznych",0,0,{"$f":"P!tyg*SUMIF($K$6:$AR$6,\"L\",$K$29:$AR$29)","v":30},0,{"$f":"SUM(E29:H29)","v":30},2,null,null,null,null,null,null,null,null,null,null,null,null,null,null,null,null,null,{"$f":"30/P!tyg","v":2},null,2]
[1,null,6,"Podstawy metrologii",{"$f":"P!tyg*SUMIF($K$6:$AR$6,\"W\",$K$30:$AR$30)","v":30},0,0,0,30,2,null,null,null,null,null,{"$f":"30/P!tyg","v":2},null,null,null,2]
[1,null,7,"Laboratorium podstaw metrologii",0,0,{"$f":"P!tyg*SUMIF($K$6:$AR$6,\"L\",$K$31:$AR$31)","v":30},0,30,2,null,null,null,null,null,null,null,null,null,null,null,null,{"$f":"30/P!tyg","v":2},null,2]
[1,null,8,"Miernictwo elektroniczne / telekomunikacyjne",{"$f":"P!tyg*SUMIF($K$6:$AR$6,\"W\",$K$32:$AR$32)","v":15},null,{"$f":"P!tyg*SUMIF($K$6:$AR$6,\"L\",$K$32:$AR$32)","v":30},null,45,3,null,null,null,null,null,null,null,null,null,null,null,null,null,null,null,null,null,null,null,null,null,null,null,null,null,{"$f":"15/P!tyg","v":1},null,{"$f":"30/P!tyg","v":2},null,3]
[1,null,9,"Inżynieria materiał. i konstr. urządzeń",{"$f":"P!tyg*SUMIF($K$6:$AR$6,\"W\",$K$33:$AR$33)","v":30},null,null,null,30,3,null,null,null,null,null,null,null,null,null,null,{"$f":"30/P!tyg","v":2},null,null,null,3]
[1,null,10,"Pracownia projektowania i dokumentowania",0,0,{"$f":"P!tyg*SUMIF($K$6:$AR$6,\"L\",$K$34:$AR$34)","v":30},null,30,2,null,null,null,null,null,null,null,null,null,null,null,null,{"$f":"30/P!tyg","v":2},null,2]
[null,null,11,"Projekt zespołowy (wybranej specjalności)",null,null,null,{"$f":"P!tyg*SUMIF($K$6:$AR$6,\"P\",$K$35:$AR$35)","v":30},30,2,null,null,null,null,null,null,null,null,null,null,null,null,null,null,null,null,null,null,null,null,null,null,null,null,null,null,null,null,{"$f":"30/P!tyg","v":2},2]
[2,null,"M1_TC  TECHNIKI  CYFROWEJ",null,{"$f":"SUM(E37:E44)","v":135},{"$f":"SUM(F37:F44)","v":15},120,0,{"$f":"SUM(I37:I44)","v":270},{"$f":"SUM(J37:J44)","v":23},{"$f":"SUM(K37:K44)","v":0},0,0,0,0,2,0,2,0,5,4,1,2,0,10,{"$f":"SUM(Z37:Z44)","v":3},{"$f":"SUM(AA37:AA44)","v":0},{"$f":"SUM(AB37:AB44)","v":4},{"$f":"SUM(AC37:AC44)","v":0},{"$f":"SUM(AD37:AD44)","v":8},0,0,0,0,0,0,0,0,0,0,0,0,0,0,0]
[1,null,1,"Przetwarzanie sygnałów",{"$f":"P!tyg*SUMIF($K$6:$AR$6,\"W\",$K$37:$AR$37)","v":30},{"$f":"P!tyg*SUMIF($K$6:$AR$6,\"Ć\",$K$37:$AR$37)","v":15},null,null,{"$f":"SUM(E37:H37)","v":45},{"$f":"SUMIF($K$6:$AS$6,J$6,$K37:$AS37)","v":5},null,null,null,null,null,null,null,null,null,null,{"$f":"30/P!tyg","v":2},{"$f":"15/P!tyg","v":1},null,null,5]
[1,null,2,"Podstawy układów cyfrowych",{"$f":"P!tyg*SUMIF($K$6:$AR$6,\"W\",$K$38:$AR$38)","v":30},0,0,0,{"$f":"SUM(E38:H38)","v":30},3,null,null,null,null,null,{"$f":"30/P!tyg","v":2},null,null,null,3]
[1,null,3,"Laboratorium układów  cyfrowych",0,0,{"$f":"P!tyg*SUMIF($K$6:$AR$6,\"L\",$K$39:$AR$39)","v":30},0,30,2,null,null,null,null,null,null,null,2,null,2]
[1,null,4,"Systemy cyfrowe",{"$f":"P!tyg*SUMIF($K$6:$AR$6,\"W\",$K$40:$AR$40)","v":30},null,null,null,30,3,null,null,null,null,null,null,null,null,null,null,{"$f":"30/P!tyg","v":2},null,null,null,3]
[1,null,5,"Laboratorium systemów cyfrowych",null,null,{"$f":"P!tyg*SUMIF($K$6:$AR$6,\"L\",$K$41:$AR$41)","v":30},null,30,2,null,null,null,null,null,null,null,null,null,null,null,null,{"$f":"30/P!tyg","v":2},null,2]
[1,null,6,"Reprogramowalne systemy cyfrowe",{"$f":"P!tyg*SUMIF($K$6:$AR$6,\"W\",$K$42:$AR$42)","v":30},null,null,null,30,3,null,null,null,null,null,null,null,null,null,null,null,null,null,null,null,{"$f":"30/P!tyg","v":2},null,null,null,3]
[1,null,7,"Laboratorium RSC",null,null,{"$f":"P!tyg*SUMIF($K$6:$AR$6,\"L\",$K$43:$AR$43)","v":30},null,30,2,null,null,null,null,null,null,null,null,null,null,null,null,null,null,null,null,null,{"$f":"30/P!tyg","v":2},null,2]
[null,null,8,"Przedmiot obieralny 2:",{"$f":"P!tyg*SUMIF($K$6:$AR$6,\"W\",$K$44:$AR$44)","v":15},null,{"$f":"P!tyg*SUMIF($K$6:$AR$6,\"L\",$K$44:$AR$44)","v":30},null,45,3,null,null,null,null,null,null,null,null,null,null,null,null,null,null,null,{"$f":"15/P!tyg","v":1},null,{"$f":"30/P!tyg","v":2},null,3]
[2,null,"M1_IK  INŻYNIERII KOMP. I TECHN. SIECIOWYCH",null,{"$f":"SUM(E46:E51)","v":105},15,60,15,195,16,{"$f":"SUM(K46:K51)","v":0},0,0,0,0,0,0,0,0,0,0,0,0,0,0,5,1,0,1,9,2,0,4,0,7,0,0,0,0,0,0,0,0,0,0]
[1,null,1,"Technologie sieciowe (sieci komput. i protokoły)",{"$f":"P!tyg*SUMIF($K$6:$AR$6,\"W\",$K$46:$AR$46)","v":30},{"$f":"P!tyg*SUMIF($K$6:$AR$6,\"Ć\",$K$46:$AR$46)","v":15},null,null,{"$f":"SUM(E46:H46)","v":45},{"$f":"SUMIF($K$6:$AS$6,J$6,$K46:$AS46)","v":4},null,null,null,null,null,null,null,null,null,null,null,null,null,null,null,{"$f":"30/P!tyg","v":2},{"$f":"15/P!tyg","v":1},null,null,4]
[1,null,2,"Projektowanie sieci komputerowej",null,null,null,{"$f":"P!tyg*SUMIF($K$6:$AR$6,\"P\",$K$47:$AR$47)","v":15},15,1,null,null,null,null,null,null,null,null,null,null,null,null,null,null,null,null,null,null,1,1]
[1,null,3,"Architektura komputerów i systemy operacyjne",{"$f":"P!tyg*SUMIF($K$6:$AR$6,\"W\",$K$48:$AR$48)","v":30},null,null,null,30,3,null,null,null,null,null,null,null,null,null,null,null,null,null,null,null,{"$f":"30/P!tyg","v":2},null,null,null,3]
[1,null,4,"Laboratorium architektury komputerów",null,null,{"$f":"P!tyg*SUMIF($K$6:$AR$6,\"L\",$K$49:$AR$49)","v":30},null,30,2,null,null,null,null,null,null,null,null,null,null,null,null,null,null,null,null,null,null,null,null,null,null,{"$f":"30/P!tyg","v":2},null,2]
[1,null,2,"Technika mikroprocesorowa",{"$f":"P!tyg*SUMIF($K$6:$AR$6,\"W\",$K$50:$AR$50)","v":45},null,null,null,45,4,null,null,null,null,null,null,null,null,null,null,null,null,null,null,null,{"$f":"15/P!tyg","v":1},null,null,null,1,{"$f":"30/P!tyg","v":2},null,null,null,3]
[1,null,null,"Laboratorium mikroprocesorów",null,null,{"$f":"P!tyg*SUMIF($K$6:$AR$6,\"L\",$K$51:$AR$51)","v":30},0,30,2,null,null,null,null,null,null,null,null,null,null,null,null,null,null,null,null,null,null,null,null,null,null,{"$f":"30/P!tyg","v":2},null,2]
[2,null,"M1_TEL  TELEKOMUNIKACJI",null,{"$f":"SUM(E53:E60)","v":165},{"$f":"SUM(F53:F60)","v":60},45,0,270,20,0,0,0,0,0,0,0,0,0,0,{"$f":"SUM(U53:U60)","v":2},{"$f":"SUM(V53:V60)","v":1},0,0,4,4,1,0,0,6,3,1,3,0,7,2,1,0,0,3,0,0,0,0,0]
[1,null,1,"Teoria obwodów i sygnalów",{"$f":"P!tyg*SUMIF($K$6:$AR$6,\"W\",$K$53:$AR$53)","v":30},{"$f":"P!tyg*SUMIF($K$6:$AR$6,\"Ć\",$K$53:$AR$53)","v":15},0,0,{"$f":"SUM(E53:H53)","v":45},{"$f":"SUMIF($K$6:$AS$6,J$6,$K53:$AS53)","v":4},null,null,null,null,null,null,null,null,null,null,{"$f":"30/P!tyg","v":2},{"$f":"15/P!tyg","v":1},null,null,4]
[1,null,2,"Podstawy telekomunikacji",{"$f":"P!tyg*SUMIF($K$6:$AR$6,\"W\",$K$54:$AR$54)","v":30},{"$f":"P!tyg*SUMIF($K$6:$AR$6,\"Ć\",$K$54:$AR$54)","v":15},0,0,45,4,null,null,null,null,null,null,null,null,null,null,null,null,null,null,null,{"$f":"30/P!tyg","v":2},{"$f":"15/P!tyg","v":1},null,null,4]
[1,null,3,"Systemy i sieci telekomunikacyjne",{"$f":"P!tyg*SUMIF($K$6:$AR$6,\"W\",$K$55:$AR$55)","v":30},0,0,0,30,2,null,null,null,null,null,null,null,null,null,null,null,null,null,null,null,null,null,null,null,null,{"$f":"30/P!tyg","v":2},null,null,null,2]
[1,null,4,"Techniki bezprzewodowe",{"$f":"P!tyg*SUMIF($K$6:$AR$6,\"W\",$K$56:$AR$56)","v":30},{"$f":"P!tyg*SUMIF($K$6:$AR$6,\"Ć\",$K$56:$AR$56)","v":15},null,null,45,3,null,null,null,null,null,null,null,null,null,null,null,null,null,null,null,null,null,null,null,null,null,null,null,null,null,{"$f":"30/P!tyg","v":2},{"$f":"15/P!tyg","v":1},null,null,3]
[1,null,5,"Podstawy energoelektroniki",{"$f":"P!tyg*SUMIF($K$6:$AR$6,\"W\",$K$57:$AR$57)","v":30},{"$f":"P!tyg*SUMIF($K$6:$AR$6,\"Ć\",$K$57:$AR$57)","v":0},null,null,30,2,null,null,null,null,null,null,null,null,null,null,null,null,null,null,null,{"$f":"30/P!tyg","v":2},null,null,null,2]
[null,null,6,"Laboratorium podstaw energoelektroniki",{"$f":"P!tyg*SUMIF($K$6:$AR$6,\"W\",$K$58:$AR$58)","v":0},{"$f":"P!tyg*SUMIF($K$6:$AR$6,\"Ć\",$K$58:$AR$58)","v":0},{"$f":"P!tyg*SUMIF($K$6:$AR$6,\"L\",$K$58:$AR$58)","v":15},null,15,1,null,null,null,null,null,null,null,null,null,null,null,null,null,null,null,null,null,null,null,null,null,null,1,null,1]
[1,null,7,"Laboratorium urządzeń komunikacyjnych",null,null,{"$f":"P!tyg*SUMIF($K$6:$AR$6,\"L\",$K$59:$AR$59)","v":30},null,30,2,null,null,null,null,null,null,null,null,null,null,null,null,null,null,null,null,null,null,null,null,null,null,2,null,2]
[1,null,8,"Przedmiot obieralny 3:",{"$f":"P!tyg*SUMIF($K$6:$AR$6,\"W\",$K$60:$AR$60)","v":15},{"$f":"P!tyg*SUMIF($K$6:$AR$6,\"Ć\",$K$60:$AR$60)","v":15},null,null,30,2,null,null,null,null,null,null,null,null,null,null,null,null,null,null,null,null,null,null,null,null,{"$f":"15/P!tyg","v":1},{"$f":"15/P!tyg","v":1},null,null,2]
[2,null,"M1_PR  PROGRAMOWANIA",null,{"$f":"SUM(E62:E66)","v":135},{"$f":"SUM(F62:F66)","v":75},0,15,225,19,5,3,0,0,11,{"$f":"SUM(P62:P66)","v":2},{"$f":"SUM(Q62:Q66)","v":1},0,0,3,2,1,0,{"$f":"SUM(X62:X66)","v":1},{"$f":"SUM(Y62:Y66)","v":5},0,0,0,0,0,0,0,0,0,0,0,0,0,0,0,0,0,0,0,0]
[1,null,1,"Podstawy programowania",{"$f":"P!tyg*SUMIF($K$6:$AR$6,\"W\",$K$62:$AR$62)","v":30},{"$f":"P!tyg*SUMIF($K$6:$AR$6,\"Ć\",$K$62:$AR$62)","v":15},0,0,{"$f":"SUM(E62:H62)","v":45},{"$f":"SUMIF($K$6:$AS$6,J$6,$K62:$AS62)","v":5},{"$f":"30/P!tyg","v":2},{"$f":"15/P!tyg","v":1},null,null,5]
[1,null,2,"Algorytmy i struktury danych",{"$f":"P!tyg*SUMIF($K$6:$AR$6,\"W\",$K$63:$AR$63)","v":30},{"$f":"P!tyg*SUMIF($K$6:$AR$6,\"Ć\",$K$63:$AR$63)","v":15},0,0,{"$f":"SUM(E63:H63)","v":45},{"$f":"SUMIF($K$6:$AS$6,J$6,$K63:$AS63)","v":4},{"$f":"30/P!tyg","v":2},{"$f":"15/P!tyg","v":1},null,null,4]
[1,null,3,"Technika obliczeniowa i symulacyjna (Metody numeryczne, symulacja komputerowa)",{"$f":"P!tyg*SUMIF($K$6:$AR$6,\"W\",$K$64:$AR$64)","v":30},{"$f":"P!tyg*SUMIF($K$6:$AR$6,\"Ć\",$K$64:$AR$64)","v":15},0,0,{"$f":"SUM(E64:H64)","v":45},{"$f":"SUMIF($K$6:$AS$6,J$6,$K64:$AS64)","v":4},null,null,null,null,null,null,null,null,null,null,{"$f":"30/P!tyg","v":2},{"$f":"15/P!tyg","v":1},null,null,4]
[null,null,4,"Technologie informacyjne (Bazy danych)",{"$f":"P!tyg*SUMIF($K$6:$AR$6,\"W\",$K$65:$AR$65)","v":15},{"$f":"P!tyg*SUMIF($K$6:$AR$6,\"Ć\",$K$65:$AR$65)","v":15},0,0,{"$f":"SUM(E65:H65)","v":30},{"$f":"SUMIF($K$6:$AS$6,J$6,$K65:$AS65)","v":2},{"$f":"15/P!tyg","v":1},{"$f":"15/P!tyg","v":1},null,null,2]
[1,null,5,"Programowanie komputerów i urządzeń",{"$f":"P!tyg*SUMIF($K$6:$AR$6,\"W\",$K$66:$AR$66)","v":30},{"$f":"P!tyg*SUMIF($K$6:$AR$6,\"Ć\",$K$66:$AR$66)","v":15},0,{"$f":"P!tyg*SUMIF($K$6:$AR$6,\"P\",$K$66:$AR$66)","v":15},{"$f":"SUM(E66:H66)","v":60},{"$f":"SUMIF($K$6:$AS$6,J$6,$K66:$AS66)","v":4},null,null,null,null,null,{"$f":"30/P!tyg","v":2},{"$f":"15/P!tyg","v":1},null,null,3,null,null,null,{"$f":"15/P!tyg","v":1},1]
[2,null,"M1_MUL  SYSTEMÓW MULTIMEDIALNYCH",null,{"$f":"SUM(E68:E71)","v":90},{"$f":"SUM(F68:F71)","v":30},0,15,135,10,0,0,0,0,0,0,0,0,0,0,0,0,0,0,0,0,0,0,0,0,4,1,0,0,6,2,1,0,1,4,0,0,0,0,0]
[1,null,1,"Techniki multimedialne",{"$f":"P!tyg*SUMIF($K$6:$AR$6,\"W\",$K$68:$AR$68)","v":30},{"$f":"P!tyg*SUMIF($K$6:$AR$6,\"Ć\",$K$68:$AR$68)","v":15},0,0,{"$f":"SUM(E68:H68)","v":45},{"$f":"SUMIF($K$6:$AS$6,J$6,$K68:$AS68)","v":4},null,null,null,null,null,null,null,null,null,null,null,null,null,null,null,null,null,null,null,null,2,{"$f":"15/P!tyg","v":1},null,null,4]
[1,null,2,"Projektowanie aplikacji multimedialnych",0,0,0,{"$f":"P!tyg*SUMIF($K$6:$AR$6,\"P\",$K$69:$AR$69)","v":15},15,{"$f":"SUMIF($K$6:$AS$6,J$6,$K69:$AS69)","v":1},null,null,null,null,null,null,null,null,null,null,null,null,null,null,null,null,null,null,null,null,null,null,null,null,null,null,null,null,{"$f":"15/P!tyg","v":1},1]
[null,null,3,"Przedmiot obieralny 1:",{"$f":"P!tyg*SUMIF($K$6:$AR$6,\"W\",$K$70:$AR$70)","v":30},{"$f":"P!tyg*SUMIF($K$6:$AR$6,\"Ć\",$K$70:$AR$70)","v":15},0,0,{"$f":"SUM(E70:H70)","v":45},{"$f":"SUMIF($K$6:$AS$6,J$6,$K70:$AS70)","v":3},null,null,null,null,null,null,null,null,null,null,null,null,null,null,null,null,null,null,null,null,null,null,null,null,null,{"$f":"30/P!tyg","v":2},{"$f":"15/P!tyg","v":1},null,null,3]
[null,null,4,"Wykład monograficzny",{"$f":"P!tyg*SUMIF($K$6:$AR$6,\"W\",$K$71:$AR$71)","v":30},0,0,0,{"$f":"SUM(E71:H71)","v":30},{"$f":"SUMIF($K$6:$AS$6,J$6,$K71:$AS71)","v":2},null,null,null,null,null,null,null,null,null,null,null,null,null,null,null,null,null,null,null,null,{"$f":"30/P!tyg","v":2},null,null,null,2]
[2,null,"M1_SP  SPECJALNOŚCI INŻYNIERSKIEJ",null,{"$f":"P!tyg*SUMIF($K$6:$AR$6,\"W\",$K$72:$AR$72)","v":210},{"$f":"P!tyg*SUMIF($K$6:$AR$6,\"Ć\",$K$72:$AR$72)","v":60},{"$f":"P!tyg*SUMIF($K$6:$AR$6,\"L\",$K$72:$AR$72)","v":90},{"$f":"P!tyg*SUMIF($K$6:$AR$6,\"P\",$K$72:$AR$72)","v":90},{"$f":"SUM(E72:H72)","v":450},35,null,null,null,null,null,null,null,null,null,null,null,null,null,null,null,null,null,null,null,null,5,3,null,null,10,4,1,4,2,12,5,null,2,4,13]
[2,null,"M1_DP  DYPLOMOWANIA I PRAKTYKI ZAWOD.",null,null,null,null,{"$f":"SUM(H74:H77)","v":60},{"$f":"SUM(I74:I77)","v":60},{"$f":"SUM(J74:J77)","v":23},null,null,null,null,null,null,null,null,null,null,null,null,null,null,null,null,null,null,null,null,{"$f":"SUM(AE74:AE74)","v":0},{"$f":"SUM(AF74:AF77)","v":0},{"$f":"SUM(AG74:AG77)","v":0},0,{"$f":"SUM(AI74:AI77)","v":0},{"$f":"SUM(AJ74:AJ77)","v":0},{"$f":"SUM(AK74:AK77)","v":0},0,2,{"$f":"SUM(AN74:AN77)","v":6},0,0,0,2,17]
[null,null,1,"Praktyka zawodowa (4 tyg.)",null,null,null,{"$f":"P!tyg*SUMIF($K$6:$AR$6,\"P\",$K$74:$AR$74)","v":0},{"$f":"SUM(E74:H74)","v":0},{"$f":"SUMIF($K$6:$AS$6,J$6,$K74:$AS74)","v":4},null,null,null,null,null,null,null,null,null,null,null,null,null,null,null,null,null,null,null,null,null,null,null,null,null,null,null,null,null,4]
[null,null,2,"Proseminarium lub koło naukowe",null,null,null,{"$f":"P!tyg*SUMIF($K$6:$AR$6,\"P\",$K$75:$AR$75)","v":30},{"$f":"SUM(E75:H75)","v":30},{"$f":"SUMIF($K$6:$AS$6,J$6,$K75:$AS75)","v":2},null,null,null,null,null,null,null,null,null,null,null,null,null,null,null,null,null,null,null,null,null,null,null,null,null,null,null,null,{"$f":"30/P!tyg","v":2},2]
[null,null,3,"Seminarium dyplomowe inżynierskie",null,null,null,{"$f":"P!tyg*SUMIF($K$6:$AR$6,\"P\",$K$76:$AR$76)","v":30},30,{"$f":"SUMIF($K$6:$AS$6,J$6,$K76:$AS76)","v":2},null,null,null,null,null,null,null,null,null,null,null,null,null,null,null,null,null,null,null,null,null,null,null,null,null,null,null,null,null,null,null,null,null,{"$f":"30/P!tyg","v":2},2]
[null,null,4,"Projekt dyplomowy inżynierski",null,null,null,{"$f":"P!tyg*SUMIF($K$6:$AR$6,\"P\",$K$77:$AR$77)","v":0},0,{"$f":"SUMIF($K$6:$AS$6,J$6,$K77:$AS77)","v":15},null,null,null,null,null,null,null,null,null,null,null,null,null,null,null,null,null,null,null,null,null,null,null,null,null,null,null,null,null,null,null,null,null,null,15]
[2,null,"Razem  ",null,{"$f":"E7+E14+E24+E36+E45+E52+E61+E67+E72+E73","v":1260},645,480,225,2610,210,15,15,0,0,30,16,9,5,0,30,11,6,6,1,30,14,5,6,1,30,14,5,7,0,30,9,3,6,7,30,5,0,2,6,30]
[null,null,null,null,0,null,null,null,null,null,{"$f":"SUM(K78:N78)","v":30},null,null,null,null,{"$f":"SUM(P78:S78)","v":30},null,null,null,null,{"$f":"SUM(U78:X78)","v":24},null,null,null,null,{"$f":"SUM(Z78:AC78)","v":26},null,null,null,null,{"$f":"SUM(AE78:AH78)","v":26},null,null,null,null,{"$f":"SUM(AJ78:AM78)","v":25},null,null,null,null,{"$f":"SUM(AO78:AR78)","v":13}]
[null,null,"Liczba egzaminów  ",null,{"$f":"SUM(K80:AO80)","v":22},null,null,null,null,null,3,null,null,null,null,3,null,null,null,null,3,null,null,null,null,4,null,null,null,null,3,null,null,null,null,3,null,null,null,null,3]
[null,null,null,null,{"$f":"E78/I78*100","v":48.275862068965516},{"$f":"F78/I78*100","v":24.712643678160919},{"$f":"G78/I78*100","v":18.390804597701148},{"$f":"H78/I78*100","v":8.6206896551724146},{"$f":"SUM(E81:H81)","v":100}]
[null,null,null,null,null,null,null,null,null,null,"Praktyka zawodowa - 4 tygodnie, sem. VI"]
[null,null,"Przedmiot obieralny z nauk humanistycznych: "]
[null,null,"Gr.1. Technologia kształcenia, Psychopedagogiczne aspekty studiowania, Podstawy psychologii"]
[null,null,"Gr.2. Integracja europejska, Rynek pracy RP i UE, Filozofia techniki, Historia techniki"]
[null,null,"Przedmiot obieralny z nauk ekonomicznych:"]
[null,null,"Podstawy ekonomii"]
[null,null,"Zarządzanie i marketing"]
[null,null,"Przedmiot obieralny kierunkowy: "]
[null,null,"1.  Grafika i komunikacja człowiek-komputer, Programowanie urzadzeń mobilnych"]
[null,null,"2.  Zastosowania impulsowych układów elektronicznych, Technika analogowa w urządzeniach elektronicznych"]
[null,null,"3.  Telekomunikacyjne urządzenia mobilne, Pole i fale elektromagnetyczne"]
[null,null,"Wykład monograficzny:"]
[null,null,"1.  Nanotechnologie,  Sztuczna inteligencja"]
[]
[]
[null,null,"19.06.2018r."]

{"sheet":"P","index":1,"n_rows":11,"n_cols":4,"rows_kept":11,"cut":false,"hidden":false,"merged":[[1,1,1,2]]}
[]
[null,"Tabela przeliczników i sum kontrolnych"]
[]
[null,"Liczba tygodni w semestrze",15,"tyg"]
[null,"Maksymalna liczba godzin tygodniowo w semestrze",32,"max_t"]
[null,"Minimalna liczba godzin studiów",300,"min_st"]
[null,"Maksymalna liczba godzin studiów",350,"max_st"]
[null,"Maksymalna liczba godzin w sem. XI",6,"max_11"]
[null,"Maksymalna liczba egzaminów w semestrze",7,"egz_s"]
[null,"Maksymalna liczba egzaminów w roku",10,"egz_r"]
[null,"Suma punktów ECTS w semestrze",30,"ECTS_s"]